
BEGIN:VCALENDAR
VERSION:2.0
PRODID:-//Etkinlikvarmi//Takvime Ekle//TR
BEGIN:VEVENT
UID:69e4eca1dba45@etkinlikvarmi.com
DTSTAMP:20260419T145425Z
DTSTART:20260502T210000
DTEND:20260502T230000
SUMMARY:Derya Bedavacı
LOCATION:Jolly Joker Afyonkarahisar, Afyonkarahisar
DESCRIPTION:Derya Bedavacı etkinliği Afyonkarahisar şehrinde Jolly Joker Afyonkarahisar mekanında.
END:VEVENT
END:VCALENDAR
