
BEGIN:VCALENDAR
VERSION:2.0
PRODID:-//Etkinlikvarmi//Takvime Ekle//TR
BEGIN:VEVENT
UID:69e4ea91d58e3@etkinlikvarmi.com
DTSTAMP:20260419T144537Z
DTSTART:20260427T203000
DTEND:20260427T223000
SUMMARY:Sürüklenmiş
LOCATION:Paribu Art - Ana Sahne, İstanbul
DESCRIPTION:Sürüklenmiş etkinliği İstanbul şehrinde Paribu Art - Ana Sahne mekanında.
END:VEVENT
END:VCALENDAR
