
BEGIN:VCALENDAR
VERSION:2.0
PRODID:-//Etkinlikvarmi//Takvime Ekle//TR
BEGIN:VEVENT
UID:69e4ee30da64b@etkinlikvarmi.com
DTSTAMP:20260419T150104Z
DTSTART:20260509T203000
DTEND:20260509T223000
SUMMARY:Hadi Öldürsene Canikom
LOCATION:Sefaköy Kültür Sanat Merkezi, İstanbul
DESCRIPTION:Hadi Öldürsene Canikom etkinliği İstanbul şehrinde Sefaköy Kültür Sanat Merkezi mekanında.
END:VEVENT
END:VCALENDAR
