
BEGIN:VCALENDAR
VERSION:2.0
PRODID:-//Etkinlikvarmi//Takvime Ekle//TR
BEGIN:VEVENT
UID:69e4f0c56362c@etkinlikvarmi.com
DTSTAMP:20260419T151205Z
DTSTART:20260419T200000
DTEND:20260419T220000
SUMMARY:Miray Akovalıgil - Ya Bende Bir Şey Yoksa? - Stand Up

LOCATION:Trump Sahne, İstanbul
DESCRIPTION:Miray Akovalıgil - Ya Bende Bir Şey Yoksa? - Stand Up
 etkinliği İstanbul şehrinde Trump Sahne mekanında.
END:VEVENT
END:VCALENDAR
