
BEGIN:VCALENDAR
VERSION:2.0
PRODID:-//Etkinlikvarmi//Takvime Ekle//TR
BEGIN:VEVENT
UID:69e4f05c1c4da@etkinlikvarmi.com
DTSTAMP:20260419T151020Z
DTSTART:20260419T200000
DTEND:20260419T220000
SUMMARY:Kadınlık Bizde Kalsın - Sevme Beni
LOCATION:Urfa City AVM, Şanlıurfa
DESCRIPTION:Kadınlık Bizde Kalsın - Sevme Beni etkinliği Şanlıurfa şehrinde Urfa City AVM mekanında.
END:VEVENT
END:VCALENDAR
