
BEGIN:VCALENDAR
VERSION:2.0
PRODID:-//Etkinlikvarmi//Takvime Ekle//TR
BEGIN:VEVENT
UID:69e4ea2f0105a@etkinlikvarmi.com
DTSTAMP:20260419T144359Z
DTSTART:20260419T213000
DTEND:20260419T233000
SUMMARY:Ahiyan
LOCATION:Dorock XL, İstanbul
DESCRIPTION:Ahiyan etkinliği İstanbul şehrinde Dorock XL mekanında.
END:VEVENT
END:VCALENDAR
