
BEGIN:VCALENDAR
VERSION:2.0
PRODID:-//Etkinlikvarmi//Takvime Ekle//TR
BEGIN:VEVENT
UID:69e4ec79591f2@etkinlikvarmi.com
DTSTAMP:20260419T145345Z
DTSTART:20260419T210000
DTEND:20260419T230000
SUMMARY:Derya Bedavacı
LOCATION:Orpheus Açık Hava Amfi Sahnesi, Şanlıurfa
DESCRIPTION:Derya Bedavacı etkinliği Şanlıurfa şehrinde Orpheus Açık Hava Amfi Sahnesi mekanında.
END:VEVENT
END:VCALENDAR
