
BEGIN:VCALENDAR
VERSION:2.0
PRODID:-//Etkinlikvarmi//Takvime Ekle//TR
BEGIN:VEVENT
UID:69e4eca39d765@etkinlikvarmi.com
DTSTAMP:20260419T145427Z
DTSTART:20260421T200000
DTEND:20260421T220000
SUMMARY:Ayna
LOCATION:Korkut Ata Kültür ve Kongre Merkezi, Ankara
DESCRIPTION:Ayna etkinliği Ankara şehrinde Korkut Ata Kültür ve Kongre Merkezi mekanında.
END:VEVENT
END:VCALENDAR
