
BEGIN:VCALENDAR
VERSION:2.0
PRODID:-//Etkinlikvarmi//Takvime Ekle//TR
BEGIN:VEVENT
UID:69e4f07c992e9@etkinlikvarmi.com
DTSTAMP:20260419T151052Z
DTSTART:20260421T200000
DTEND:20260421T220000
SUMMARY:Kadınlık Bizde Kalsın - Sevme Beni
LOCATION:Diyarbakır Sezai Karakoç KKM, Diyarbakır
DESCRIPTION:Kadınlık Bizde Kalsın - Sevme Beni etkinliği Diyarbakır şehrinde Diyarbakır Sezai Karakoç KKM mekanında.
END:VEVENT
END:VCALENDAR
