
BEGIN:VCALENDAR
VERSION:2.0
PRODID:-//Etkinlikvarmi//Takvime Ekle//TR
BEGIN:VEVENT
UID:69e4ea4886883@etkinlikvarmi.com
DTSTAMP:20260419T144424Z
DTSTART:20260424T203000
DTEND:20260424T223000
SUMMARY:Metot
LOCATION:Paribu Art - Ana Sahne, İstanbul
DESCRIPTION:Metot etkinliği İstanbul şehrinde Paribu Art - Ana Sahne mekanında.
END:VEVENT
END:VCALENDAR
