
BEGIN:VCALENDAR
VERSION:2.0
PRODID:-//Etkinlikvarmi//Takvime Ekle//TR
BEGIN:VEVENT
UID:69e4f07c98b28@etkinlikvarmi.com
DTSTAMP:20260419T151052Z
DTSTART:20260422T200000
DTEND:20260422T220000
SUMMARY:Kadınlık Bizde Kalsın - Sevme Beni
LOCATION:Malatya KKM Kemal Sunal Salonu, Malatya
DESCRIPTION:Kadınlık Bizde Kalsın - Sevme Beni etkinliği Malatya şehrinde Malatya KKM Kemal Sunal Salonu mekanında.
END:VEVENT
END:VCALENDAR
