
BEGIN:VCALENDAR
VERSION:2.0
PRODID:-//Etkinlikvarmi//Takvime Ekle//TR
BEGIN:VEVENT
UID:69e4eca59ed79@etkinlikvarmi.com
DTSTAMP:20260419T145429Z
DTSTART:20260421T203000
DTEND:20260421T223000
SUMMARY:Devlerin Savaşı
LOCATION:DasDas, İstanbul
DESCRIPTION:Devlerin Savaşı etkinliği İstanbul şehrinde DasDas mekanında.
END:VEVENT
END:VCALENDAR
