
BEGIN:VCALENDAR
VERSION:2.0
PRODID:-//Etkinlikvarmi//Takvime Ekle//TR
BEGIN:VEVENT
UID:69e4f02d6b34b@etkinlikvarmi.com
DTSTAMP:20260419T150933Z
DTSTART:20260422T214500
DTEND:20260422T234500
SUMMARY:Walkman &amp; Med Session 90'lar Türkçe Pop Gecesi
LOCATION:Dorock XL, İstanbul
DESCRIPTION:Walkman &amp; Med Session 90'lar Türkçe Pop Gecesi etkinliği İstanbul şehrinde Dorock XL mekanında.
END:VEVENT
END:VCALENDAR
