
BEGIN:VCALENDAR
VERSION:2.0
PRODID:-//Etkinlikvarmi//Takvime Ekle//TR
BEGIN:VEVENT
UID:69e4ecacaab76@etkinlikvarmi.com
DTSTAMP:20260419T145436Z
DTSTART:20260424T200000
DTEND:20260424T220000
SUMMARY:İte Kaka
LOCATION:Barış Manço Kültür Merkezi Bandırma, Balıkesir
DESCRIPTION:İte Kaka etkinliği Balıkesir şehrinde Barış Manço Kültür Merkezi Bandırma mekanında.
END:VEVENT
END:VCALENDAR
