
BEGIN:VCALENDAR
VERSION:2.0
PRODID:-//Etkinlikvarmi//Takvime Ekle//TR
BEGIN:VEVENT
UID:69e4eca29d75b@etkinlikvarmi.com
DTSTAMP:20260419T145426Z
DTSTART:20260423T210000
DTEND:20260423T230000
SUMMARY:Derya Bedavacı
LOCATION:Merinos AKKM Osmangazi Salonu, Bursa
DESCRIPTION:Derya Bedavacı etkinliği Bursa şehrinde Merinos AKKM Osmangazi Salonu mekanında.
END:VEVENT
END:VCALENDAR
