
BEGIN:VCALENDAR
VERSION:2.0
PRODID:-//Etkinlikvarmi//Takvime Ekle//TR
BEGIN:VEVENT
UID:69e4f05c060f5@etkinlikvarmi.com
DTSTAMP:20260419T151020Z
DTSTART:20260425T140000
DTEND:20260425T160000
SUMMARY:Serhat Abinin Bilim Fabrikası
LOCATION:MEB Şura Salonu, Ankara
DESCRIPTION:Serhat Abinin Bilim Fabrikası etkinliği Ankara şehrinde MEB Şura Salonu mekanında.
END:VEVENT
END:VCALENDAR
