
BEGIN:VCALENDAR
VERSION:2.0
PRODID:-//Etkinlikvarmi//Takvime Ekle//TR
BEGIN:VEVENT
UID:69e4f087c645a@etkinlikvarmi.com
DTSTAMP:20260419T151103Z
DTSTART:20260424T220000
DTEND:20260425T000000
SUMMARY:Sagopa Kajmer
LOCATION:Holly Stone Batman, Batman
DESCRIPTION:Sagopa Kajmer etkinliği Batman şehrinde Holly Stone Batman mekanında.
END:VEVENT
END:VCALENDAR
