
BEGIN:VCALENDAR
VERSION:2.0
PRODID:-//Etkinlikvarmi//Takvime Ekle//TR
BEGIN:VEVENT
UID:69e4ec79a9a0a@etkinlikvarmi.com
DTSTAMP:20260419T145345Z
DTSTART:20260424T220000
DTEND:20260425T000000
SUMMARY:Ayna
LOCATION:Holly Stone Bursa, Bursa
DESCRIPTION:Ayna etkinliği Bursa şehrinde Holly Stone Bursa mekanında.
END:VEVENT
END:VCALENDAR
