
BEGIN:VCALENDAR
VERSION:2.0
PRODID:-//Etkinlikvarmi//Takvime Ekle//TR
BEGIN:VEVENT
UID:69e4ea8c6adc8@etkinlikvarmi.com
DTSTAMP:20260419T144532Z
DTSTART:20260426T200000
DTEND:20260426T220000
SUMMARY:Şebbaz
LOCATION:01 Burda PGM Sahne - Adana, Adana
DESCRIPTION:Şebbaz etkinliği Adana şehrinde 01 Burda PGM Sahne - Adana mekanında.
END:VEVENT
END:VCALENDAR
