
BEGIN:VCALENDAR
VERSION:2.0
PRODID:-//Etkinlikvarmi//Takvime Ekle//TR
BEGIN:VEVENT
UID:69e4ec7b2f95b@etkinlikvarmi.com
DTSTAMP:20260419T145347Z
DTSTART:20260426T200000
DTEND:20260426T220000
SUMMARY:Devlerin Savaşı
LOCATION:Atatürk Sanat Merkezi, Ankara
DESCRIPTION:Devlerin Savaşı etkinliği Ankara şehrinde Atatürk Sanat Merkezi mekanında.
END:VEVENT
END:VCALENDAR
