
BEGIN:VCALENDAR
VERSION:2.0
PRODID:-//Etkinlikvarmi//Takvime Ekle//TR
BEGIN:VEVENT
UID:69e4eca424333@etkinlikvarmi.com
DTSTAMP:20260419T145428Z
DTSTART:20260426T200000
DTEND:20260426T220000
SUMMARY:Ayna
LOCATION:Lüleburgaz Yıldızları Sanat, Kırklareli
DESCRIPTION:Ayna etkinliği Kırklareli şehrinde Lüleburgaz Yıldızları Sanat mekanında.
END:VEVENT
END:VCALENDAR
