
BEGIN:VCALENDAR
VERSION:2.0
PRODID:-//Etkinlikvarmi//Takvime Ekle//TR
BEGIN:VEVENT
UID:69e4ee73745a2@etkinlikvarmi.com
DTSTAMP:20260419T150211Z
DTSTART:20260420T193000
DTEND:20260420T213000
SUMMARY:7 Kocalı Hürmüz
LOCATION:Bergüzar Gösteri Merkezi, Konya
DESCRIPTION:7 Kocalı Hürmüz etkinliği Konya şehrinde Bergüzar Gösteri Merkezi mekanında.
END:VEVENT
END:VCALENDAR
