
BEGIN:VCALENDAR
VERSION:2.0
PRODID:-//Etkinlikvarmi//Takvime Ekle//TR
BEGIN:VEVENT
UID:69e4ea91d58e3@etkinlikvarmi.com
DTSTAMP:20260419T144537Z
DTSTART:20260427T200000
DTEND:20260427T220000
SUMMARY:Şebbaz
LOCATION:01 Burda PGM Sahne - Adana, Adana
DESCRIPTION:Şebbaz etkinliği Adana şehrinde 01 Burda PGM Sahne - Adana mekanında.
END:VEVENT
END:VCALENDAR
