
BEGIN:VCALENDAR
VERSION:2.0
PRODID:-//Etkinlikvarmi//Takvime Ekle//TR
BEGIN:VEVENT
UID:69e4eca32314f@etkinlikvarmi.com
DTSTAMP:20260419T145427Z
DTSTART:20260427T200000
DTEND:20260427T220000
SUMMARY:İte Kaka
LOCATION:Bodrum Bld. Nurol Kültür M., Muğla
DESCRIPTION:İte Kaka etkinliği Muğla şehrinde Bodrum Bld. Nurol Kültür M. mekanında.
END:VEVENT
END:VCALENDAR
