
BEGIN:VCALENDAR
VERSION:2.0
PRODID:-//Etkinlikvarmi//Takvime Ekle//TR
BEGIN:VEVENT
UID:69e4f07c9700c@etkinlikvarmi.com
DTSTAMP:20260419T151052Z
DTSTART:20260426T220000
DTEND:20260427T000000
SUMMARY:Soft Analog - Gecenin Koynunda Albüm Lansmanı
LOCATION:SoldOut Performance Hall, İzmir
DESCRIPTION:Soft Analog - Gecenin Koynunda Albüm Lansmanı etkinliği İzmir şehrinde SoldOut Performance Hall mekanında.
END:VEVENT
END:VCALENDAR
