
BEGIN:VCALENDAR
VERSION:2.0
PRODID:-//Etkinlikvarmi//Takvime Ekle//TR
BEGIN:VEVENT
UID:69e4ec7cac320@etkinlikvarmi.com
DTSTAMP:20260419T145348Z
DTSTART:20260426T210000
DTEND:20260426T230000
SUMMARY:Lovejoy
LOCATION:Paribu Art - Ana Sahne, İstanbul
DESCRIPTION:Lovejoy etkinliği İstanbul şehrinde Paribu Art - Ana Sahne mekanında.
END:VEVENT
END:VCALENDAR
