
BEGIN:VCALENDAR
VERSION:2.0
PRODID:-//Etkinlikvarmi//Takvime Ekle//TR
BEGIN:VEVENT
UID:69e4ec7a2f487@etkinlikvarmi.com
DTSTAMP:20260419T145346Z
DTSTART:20260426T190000
DTEND:20260426T210000
SUMMARY:Fosforlu Cevriye
LOCATION:Ve Sahne Panora &amp; Kulis Sanat, Ankara
DESCRIPTION:Fosforlu Cevriye etkinliği Ankara şehrinde Ve Sahne Panora &amp; Kulis Sanat mekanında.
END:VEVENT
END:VCALENDAR
