
BEGIN:VCALENDAR
VERSION:2.0
PRODID:-//Etkinlikvarmi//Takvime Ekle//TR
BEGIN:VEVENT
UID:69e4ec7baa109@etkinlikvarmi.com
DTSTAMP:20260419T145347Z
DTSTART:20260419T203000
DTEND:20260419T223000
SUMMARY:O.M.G
LOCATION:Ve Sahne Panora &amp; Kulis Sanat, Ankara
DESCRIPTION:O.M.G etkinliği Ankara şehrinde Ve Sahne Panora &amp; Kulis Sanat mekanında.
END:VEVENT
END:VCALENDAR
