
BEGIN:VCALENDAR
VERSION:2.0
PRODID:-//Etkinlikvarmi//Takvime Ekle//TR
BEGIN:VEVENT
UID:69e4ea8c6af6a@etkinlikvarmi.com
DTSTAMP:20260419T144532Z
DTSTART:20260428T200000
DTEND:20260428T220000
SUMMARY:Şebbaz
LOCATION:Yenişehir Bld. Atatürk K.M., Mersin
DESCRIPTION:Şebbaz etkinliği Mersin şehrinde Yenişehir Bld. Atatürk K.M. mekanında.
END:VEVENT
END:VCALENDAR
