
BEGIN:VCALENDAR
VERSION:2.0
PRODID:-//Etkinlikvarmi//Takvime Ekle//TR
BEGIN:VEVENT
UID:69e4ecaead376@etkinlikvarmi.com
DTSTAMP:20260419T145438Z
DTSTART:20260428T203000
DTEND:20260428T223000
SUMMARY:Devlerin Savaşı
LOCATION:Atatürk KM - Aspendos Salonu, Antalya
DESCRIPTION:Devlerin Savaşı etkinliği Antalya şehrinde Atatürk KM - Aspendos Salonu mekanında.
END:VEVENT
END:VCALENDAR
