
BEGIN:VCALENDAR
VERSION:2.0
PRODID:-//Etkinlikvarmi//Takvime Ekle//TR
BEGIN:VEVENT
UID:69e4ee21420f7@etkinlikvarmi.com
DTSTAMP:20260419T150049Z
DTSTART:20260427T193000
DTEND:20260427T213000
SUMMARY:7 Kocalı Hürmüz
LOCATION:Eskişehir Yunus Emre Kültür M., Eskişehir
DESCRIPTION:7 Kocalı Hürmüz etkinliği Eskişehir şehrinde Eskişehir Yunus Emre Kültür M. mekanında.
END:VEVENT
END:VCALENDAR
