
BEGIN:VCALENDAR
VERSION:2.0
PRODID:-//Etkinlikvarmi//Takvime Ekle//TR
BEGIN:VEVENT
UID:69e4eab5c4cfa@etkinlikvarmi.com
DTSTAMP:20260419T144613Z
DTSTART:20260509T210000
DTEND:20260509T230000
SUMMARY:Gripin
LOCATION:Paribu Art - Ana Sahne, İstanbul
DESCRIPTION:Gripin etkinliği İstanbul şehrinde Paribu Art - Ana Sahne mekanında.
END:VEVENT
END:VCALENDAR
