
BEGIN:VCALENDAR
VERSION:2.0
PRODID:-//Etkinlikvarmi//Takvime Ekle//TR
BEGIN:VEVENT
UID:69e4ecad30e42@etkinlikvarmi.com
DTSTAMP:20260419T145437Z
DTSTART:20260430T210000
DTEND:20260430T230000
SUMMARY:Derya Bedavacı
LOCATION:Bostancı Gösteri Merkezi, İstanbul
DESCRIPTION:Derya Bedavacı etkinliği İstanbul şehrinde Bostancı Gösteri Merkezi mekanında.
END:VEVENT
END:VCALENDAR
