
BEGIN:VCALENDAR
VERSION:2.0
PRODID:-//Etkinlikvarmi//Takvime Ekle//TR
BEGIN:VEVENT
UID:69e4ecac83b67@etkinlikvarmi.com
DTSTAMP:20260419T145436Z
DTSTART:20260430T210000
DTEND:20260430T230000
SUMMARY:Ankara Echoes
LOCATION:CerModern, Ankara
DESCRIPTION:Ankara Echoes etkinliği Ankara şehrinde CerModern mekanında.
END:VEVENT
END:VCALENDAR
