
BEGIN:VCALENDAR
VERSION:2.0
PRODID:-//Etkinlikvarmi//Takvime Ekle//TR
BEGIN:VEVENT
UID:69e4ecadab2c4@etkinlikvarmi.com
DTSTAMP:20260419T145437Z
DTSTART:20260502T200000
DTEND:20260502T220000
SUMMARY:İte Kaka
LOCATION:Ve Sahne Panora &amp; Kulis Sanat, Ankara
DESCRIPTION:İte Kaka etkinliği Ankara şehrinde Ve Sahne Panora &amp; Kulis Sanat mekanında.
END:VEVENT
END:VCALENDAR
