
BEGIN:VCALENDAR
VERSION:2.0
PRODID:-//Etkinlikvarmi//Takvime Ekle//TR
BEGIN:VEVENT
UID:69e4f08365549@etkinlikvarmi.com
DTSTAMP:20260419T151059Z
DTSTART:20260501T220000
DTEND:20260502T000000
SUMMARY:Sagopa Kajmer
LOCATION:Hayal Kahvesi Güre, Balıkesir
DESCRIPTION:Sagopa Kajmer etkinliği Balıkesir şehrinde Hayal Kahvesi Güre mekanında.
END:VEVENT
END:VCALENDAR
