
BEGIN:VCALENDAR
VERSION:2.0
PRODID:-//Etkinlikvarmi//Takvime Ekle//TR
BEGIN:VEVENT
UID:69e4ecac84b8b@etkinlikvarmi.com
DTSTAMP:20260419T145436Z
DTSTART:20260501T220000
DTEND:20260502T000000
SUMMARY:Ayna
LOCATION:Hayal Kahvesi Bandırma, Balıkesir
DESCRIPTION:Ayna etkinliği Balıkesir şehrinde Hayal Kahvesi Bandırma mekanında.
END:VEVENT
END:VCALENDAR
