
BEGIN:VCALENDAR
VERSION:2.0
PRODID:-//Etkinlikvarmi//Takvime Ekle//TR
BEGIN:VEVENT
UID:69e4ec49d8eee@etkinlikvarmi.com
DTSTAMP:20260419T145257Z
DTSTART:20260501T210000
DTEND:20260501T230000
SUMMARY:Derya Bedavacı
LOCATION:Jolly Joker Ankara, Ankara
DESCRIPTION:Derya Bedavacı etkinliği Ankara şehrinde Jolly Joker Ankara mekanında.
END:VEVENT
END:VCALENDAR
