
BEGIN:VCALENDAR
VERSION:2.0
PRODID:-//Etkinlikvarmi//Takvime Ekle//TR
BEGIN:VEVENT
UID:69e4f05c05f28@etkinlikvarmi.com
DTSTAMP:20260419T151020Z
DTSTART:20260503T210000
DTEND:20260503T230000
SUMMARY:Adamlar
LOCATION:CerModern, Ankara
DESCRIPTION:Adamlar etkinliği Ankara şehrinde CerModern mekanında.
END:VEVENT
END:VCALENDAR
