
BEGIN:VCALENDAR
VERSION:2.0
PRODID:-//Etkinlikvarmi//Takvime Ekle//TR
BEGIN:VEVENT
UID:69e4f087c4fc5@etkinlikvarmi.com
DTSTAMP:20260419T151103Z
DTSTART:20260503T203000
DTEND:20260503T223000
SUMMARY:Kadınlık Bizde Kalsın - Sevme Beni
LOCATION:Leyla Gencer Opera ve Sanat Merkezi, İstanbul
DESCRIPTION:Kadınlık Bizde Kalsın - Sevme Beni etkinliği İstanbul şehrinde Leyla Gencer Opera ve Sanat Merkezi mekanında.
END:VEVENT
END:VCALENDAR
