
BEGIN:VCALENDAR
VERSION:2.0
PRODID:-//Etkinlikvarmi//Takvime Ekle//TR
BEGIN:VEVENT
UID:69e4ec7aa9981@etkinlikvarmi.com
DTSTAMP:20260419T145346Z
DTSTART:20260420T200000
DTEND:20260420T220000
SUMMARY:Gypsy Devils &amp; Jaroslav Sveceny
LOCATION:Atatürk Sanat Merkezi, Ankara
DESCRIPTION:Gypsy Devils &amp; Jaroslav Sveceny etkinliği Ankara şehrinde Atatürk Sanat Merkezi mekanında.
END:VEVENT
END:VCALENDAR
