
BEGIN:VCALENDAR
VERSION:2.0
PRODID:-//Etkinlikvarmi//Takvime Ekle//TR
BEGIN:VEVENT
UID:69e4f07c9877c@etkinlikvarmi.com
DTSTAMP:20260419T151052Z
DTSTART:20260505T200000
DTEND:20260505T220000
SUMMARY:Kadınlık Bizde Kalsın - Sevme Beni
LOCATION:Türkan Şoray Kültür Merkezi , Antalya
DESCRIPTION:Kadınlık Bizde Kalsın - Sevme Beni etkinliği Antalya şehrinde Türkan Şoray Kültür Merkezi  mekanında.
END:VEVENT
END:VCALENDAR
