
BEGIN:VCALENDAR
VERSION:2.0
PRODID:-//Etkinlikvarmi//Takvime Ekle//TR
BEGIN:VEVENT
UID:69e4f08366e82@etkinlikvarmi.com
DTSTAMP:20260419T151059Z
DTSTART:20260506T200000
DTEND:20260506T220000
SUMMARY:Kadınlık Bizde Kalsın - Sevme Beni
LOCATION:Konyaaltı Belediyesi Nazım Hikmet, Antalya
DESCRIPTION:Kadınlık Bizde Kalsın - Sevme Beni etkinliği Antalya şehrinde Konyaaltı Belediyesi Nazım Hikmet mekanında.
END:VEVENT
END:VCALENDAR
