
BEGIN:VCALENDAR
VERSION:2.0
PRODID:-//Etkinlikvarmi//Takvime Ekle//TR
BEGIN:VEVENT
UID:69e4ec79583ef@etkinlikvarmi.com
DTSTAMP:20260419T145345Z
DTSTART:20260506T200000
DTEND:20260506T220000
SUMMARY:Ayna
LOCATION:İBB Şile Kültür Merkezi, İstanbul
DESCRIPTION:Ayna etkinliği İstanbul şehrinde İBB Şile Kültür Merkezi mekanında.
END:VEVENT
END:VCALENDAR
