
BEGIN:VCALENDAR
VERSION:2.0
PRODID:-//Etkinlikvarmi//Takvime Ekle//TR
BEGIN:VEVENT
UID:69e4ee2142432@etkinlikvarmi.com
DTSTAMP:20260419T150049Z
DTSTART:20260502T130000
DTEND:20260502T150000
SUMMARY:Çizmeli Kedi
LOCATION:Watergarden Performans Merkezi, İstanbul
DESCRIPTION:Çizmeli Kedi etkinliği İstanbul şehrinde Watergarden Performans Merkezi mekanında.
END:VEVENT
END:VCALENDAR
