
BEGIN:VCALENDAR
VERSION:2.0
PRODID:-//Etkinlikvarmi//Takvime Ekle//TR
BEGIN:VEVENT
UID:69e4f02d694fa@etkinlikvarmi.com
DTSTAMP:20260419T150933Z
DTSTART:20260507T210000
DTEND:20260507T230000
SUMMARY:Sagopa Kajmer
LOCATION:CerModern, Ankara
DESCRIPTION:Sagopa Kajmer etkinliği Ankara şehrinde CerModern mekanında.
END:VEVENT
END:VCALENDAR
