
BEGIN:VCALENDAR
VERSION:2.0
PRODID:-//Etkinlikvarmi//Takvime Ekle//TR
BEGIN:VEVENT
UID:69e4ee30d94d9@etkinlikvarmi.com
DTSTAMP:20260419T150104Z
DTSTART:20260507T203000
DTEND:20260507T223000
SUMMARY:80ler 90lar Gülümseten Hatıralar
LOCATION:Taşköprü Belediyesi , Kastamonu
DESCRIPTION:80ler 90lar Gülümseten Hatıralar etkinliği Kastamonu şehrinde Taşköprü Belediyesi  mekanında.
END:VEVENT
END:VCALENDAR
