
BEGIN:VCALENDAR
VERSION:2.0
PRODID:-//Etkinlikvarmi//Takvime Ekle//TR
BEGIN:VEVENT
UID:69e4f08366ae2@etkinlikvarmi.com
DTSTAMP:20260419T151059Z
DTSTART:20260509T200000
DTEND:20260509T220000
SUMMARY:Kadınlık Bizde Kalsın - Sevme Beni
LOCATION:Aksaray Kültür Merkezi, Aksaray
DESCRIPTION:Kadınlık Bizde Kalsın - Sevme Beni etkinliği Aksaray şehrinde Aksaray Kültür Merkezi mekanında.
END:VEVENT
END:VCALENDAR
