
BEGIN:VCALENDAR
VERSION:2.0
PRODID:-//Etkinlikvarmi//Takvime Ekle//TR
BEGIN:VEVENT
UID:69e4ea70d6410@etkinlikvarmi.com
DTSTAMP:20260419T144504Z
DTSTART:20260508T203000
DTEND:20260508T223000
SUMMARY:Sürüklenmiş
LOCATION:Eskişehir Vehbi Koç Kongre Merkezi, Eskişehir
DESCRIPTION:Sürüklenmiş etkinliği Eskişehir şehrinde Eskişehir Vehbi Koç Kongre Merkezi mekanında.
END:VEVENT
END:VCALENDAR
