
BEGIN:VCALENDAR
VERSION:2.0
PRODID:-//Etkinlikvarmi//Takvime Ekle//TR
BEGIN:VEVENT
UID:69e4f02d692a1@etkinlikvarmi.com
DTSTAMP:20260419T150933Z
DTSTART:20260510T200000
DTEND:20260510T220000
SUMMARY:Kadınlık Bizde Kalsın - Sevme Beni
LOCATION:Konya Ereğli Belediyesi, Konya
DESCRIPTION:Kadınlık Bizde Kalsın - Sevme Beni etkinliği Konya şehrinde Konya Ereğli Belediyesi mekanında.
END:VEVENT
END:VCALENDAR
